BEGIN:VCALENDAR
VERSION:2.0
PRODID:-//AudioTheme 3.0.1
BEGIN:VEVENT
UID:urn:uuid:f81f1edb-ad9c-4664-b70a-b6d10dd0b96b
URL:https://ralphalessi.com/shows/ralph-alessi-trio-2/
DTSTART;TZID=GMT:20251112T000000
SUMMARY:Ralph Alessi Trio
DESCRIPTION:Ralph Alessi\, Marc Ducret\, Jim Black
LOCATION:Jazzdor\, Strasbourg\, \, France
END:VEVENT
END:VCALENDAR
