BEGIN:VCALENDAR
VERSION:2.0
PRODID:-//AudioTheme 3.0.1
BEGIN:VEVENT
UID:urn:uuid:58adf75e-1ada-491f-b0ea-e9ad5c72b151
URL:https://ralphalessi.com/shows/ralph-alessi-quartet-3/
DTSTART;TZID=GMT:20251214T000000
SUMMARY:Ralph Alessi Quartet
DESCRIPTION:Ralph Alessi with Peter Apfelbaum (saxophone)\, Scott Colley (bass)\, Tom Rainey (drums)  2 sets at 9:pm
LOCATION:Bar Lunatico\, Brooklyn\, 
END:VEVENT
END:VCALENDAR
