BEGIN:VCALENDAR
VERSION:2.0
PRODID:-//AudioTheme 3.0.1
BEGIN:VEVENT
UID:urn:uuid:4f116026-8727-478f-bb54-cfd10274f5f0
URL:https://ralphalessi.com/shows/ralph-alessi-baida-quartet/
DTSTART;TZID=GMT:20260107T230000
SUMMARY:Ralph Alessi Baida Quartet
DESCRIPTION:Ralph Alessi Baida Quartet with David Virelles (piano)\, Drew Gress (bass)\, Nasheet Waits (drums)  6pm\, 7:30pm sets
LOCATION:Smalls\, 183 W 10th St\, Smalls/New York\, \, 10014
END:VEVENT
END:VCALENDAR
