BEGIN:VCALENDAR
VERSION:2.0
PRODID:-//AudioTheme 3.0.1
BEGIN:VEVENT
UID:urn:uuid:5294b325-5d86-4d06-9252-d0dc5c331b73
URL:https://ralphalessi.com/shows/marc-copland-quartet-3/
DTSTART;VALUE=DATE:20260214
SUMMARY:Marc Copland Quartet
LOCATION:Smalls\, 183 W 10th St\, Smalls/New York\, \, 10014
END:VEVENT
END:VCALENDAR
