BEGIN:VCALENDAR
VERSION:2.0
PRODID:-//AudioTheme 3.0.1
BEGIN:VEVENT
UID:urn:uuid:249028d3-760b-4f76-a248-34e39f23a7d8
URL:https://ralphalessi.com/shows/marc-copland-quartet-2/
DTSTART;VALUE=DATE:20260213
SUMMARY:Marc Copland Quartet
LOCATION:Smalls\, 183 W 10th St\, Smalls/New York\, \, 10014
END:VEVENT
END:VCALENDAR
